BEGIN:VCALENDAR
VERSION:2.0
PRODID:-//Nayland College - ECPv4.9.13//NONSGML v1.0//EN
CALSCALE:GREGORIAN
METHOD:PUBLISH
X-WR-CALNAME:Nayland College
X-ORIGINAL-URL:https://nayland.school.nz
X-WR-CALDESC:Events for Nayland College
BEGIN:VTIMEZONE
TZID:Pacific/Auckland
BEGIN:STANDARD
TZOFFSETFROM:+1300
TZOFFSETTO:+1200
TZNAME:NZST
DTSTART:20190406T140000
END:STANDARD
BEGIN:DAYLIGHT
TZOFFSETFROM:+1200
TZOFFSETTO:+1300
TZNAME:NZDT
DTSTART:20190928T140000
END:DAYLIGHT
END:VTIMEZONE
BEGIN:VEVENT
DTSTART;VALUE=DATE:20191125
DTEND;VALUE=DATE:20191128
DTSTAMP:20191218T033403
CREATED:20191022T204444Z
LAST-MODIFIED:20191123T231406Z
UID:32381-1574640000-1574899199@nayland.school.nz
SUMMARY:Year 10 Outdoor Education camp
DESCRIPTION:TBC \n
URL:https://nayland.school.nz/event/year-10-outdoor-education-camp-7/
LOCATION:Anchorage\, Anchorage
END:VEVENT
BEGIN:VEVENT
DTSTART;VALUE=DATE:20191125
DTEND;VALUE=DATE:20191129
DTSTAMP:20191218T033403
CREATED:20191026T211419Z
LAST-MODIFIED:20191123T231406Z
UID:32409-1574640000-1574985599@nayland.school.nz
SUMMARY:SISS Junior Volleyball Champs
DESCRIPTION:
URL:https://nayland.school.nz/event/siss-junior-volleyball-champs-2/
LOCATION:Pioneer and Cowles Stadium\, Christchurch\, Pioneer and Cowles Stadium\, Christchurch
END:VEVENT
BEGIN:VEVENT
DTSTART;VALUE=DATE:20191125
DTEND;VALUE=DATE:20191130
DTSTAMP:20191218T033403
CREATED:20191026T211419Z
LAST-MODIFIED:20191123T231406Z
UID:32410-1574640000-1575071999@nayland.school.nz
SUMMARY:NCEA Exams
DESCRIPTION:
URL:https://nayland.school.nz/event/ncea-exams-5/
END:VEVENT
BEGIN:VEVENT
DTSTART;TZID=Pacific/Auckland:20191125T180000
DTEND;TZID=Pacific/Auckland:20191125T200000
DTSTAMP:20191218T033403
CREATED:20191028T211358Z
LAST-MODIFIED:20191123T231406Z
UID:32420-1574704800-1574712000@nayland.school.nz
SUMMARY:Board of Trustee Meeting
DESCRIPTION:
URL:https://nayland.school.nz/event/board-of-trustee-meeting-9/
LOCATION:Board Room\, Nayland College
END:VEVENT
BEGIN:VEVENT
DTSTART;VALUE=DATE:20191126
DTEND;VALUE=DATE:20191127
DTSTAMP:20191218T033403
CREATED:20191027T211357Z
LAST-MODIFIED:20191110T215933Z
UID:32414-1574726400-1574812799@nayland.school.nz
SUMMARY:Year 9 Outdoor Education Day Out
DESCRIPTION:TBC \n
URL:https://nayland.school.nz/event/year-9-outdoor-education-day-out-12/
END:VEVENT
BEGIN:VEVENT
DTSTART;VALUE=DATE:20191128
DTEND;VALUE=DATE:20191129
DTSTAMP:20191218T033403
CREATED:20191104T214358Z
LAST-MODIFIED:20191123T231406Z
UID:32461-1574899200-1574985599@nayland.school.nz
SUMMARY:Last Supper
DESCRIPTION:See GMR for details \n
URL:https://nayland.school.nz/event/last-supper/
LOCATION:Staffroom
END:VEVENT
BEGIN:VEVENT
DTSTART;VALUE=DATE:20191201
DTEND;VALUE=DATE:20191205
DTSTAMP:20191218T033403
CREATED:20191101T211556Z
LAST-MODIFIED:20191123T231407Z
UID:32449-1575158400-1575503999@nayland.school.nz
SUMMARY:Sports Performance Exchange
DESCRIPTION:JTD and MLS involved. \n
URL:https://nayland.school.nz/event/sports-performance-exchange/
LOCATION:Tauranga
END:VEVENT
BEGIN:VEVENT
DTSTART;VALUE=DATE:20191202
DTEND;VALUE=DATE:20191204
DTSTAMP:20191218T033403
CREATED:20191102T212944Z
LAST-MODIFIED:20191123T231407Z
UID:32452-1575244800-1575417599@nayland.school.nz
SUMMARY:NCEA Exams
DESCRIPTION:
URL:https://nayland.school.nz/event/ncea-exams-6/
END:VEVENT
BEGIN:VEVENT
DTSTART;VALUE=DATE:20191202
DTEND;VALUE=DATE:20191203
DTSTAMP:20191218T033403
CREATED:20191108T215957Z
LAST-MODIFIED:20191123T231407Z
UID:32893-1575244800-1575331199@nayland.school.nz
SUMMARY:9G to WOW
DESCRIPTION:See Amanda Walker for details \n
URL:https://nayland.school.nz/event/9g-9a-to-wow/
END:VEVENT
BEGIN:VEVENT
DTSTART;TZID=Pacific/Auckland:20191204T180000
DTEND;TZID=Pacific/Auckland:20191204T220000
DTSTAMP:20191218T033403
CREATED:20191104T214358Z
LAST-MODIFIED:20191123T231407Z
UID:32462-1575482400-1575496800@nayland.school.nz
SUMMARY:Graduation Dinner
DESCRIPTION:
URL:https://nayland.school.nz/event/graduation-dinner-2/
LOCATION:Hall
END:VEVENT
BEGIN:VEVENT
DTSTART;VALUE=DATE:20191205
DTEND;VALUE=DATE:20191206
DTSTAMP:20191218T033403
CREATED:20191111T221421Z
LAST-MODIFIED:20191123T231407Z
UID:32917-1575504000-1575590399@nayland.school.nz
SUMMARY:9A visit to WOW
DESCRIPTION:See AWA for details. \n
URL:https://nayland.school.nz/event/9a-visit-to-wow/
END:VEVENT
BEGIN:VEVENT
DTSTART;VALUE=DATE:20191206
DTEND;VALUE=DATE:20191207
DTSTAMP:20191218T033403
CREATED:20190722T003403Z
LAST-MODIFIED:20190722T003403Z
UID:31748-1575590400-1575676799@nayland.school.nz
SUMMARY:TSS Open Beach Volleyball Champs
DESCRIPTION:
URL:https://nayland.school.nz/event/tss-open-beach-volleyball-champs/
LOCATION:Tahunanui\, Tahunanui
END:VEVENT
BEGIN:VEVENT
DTSTART;VALUE=DATE:20191206
DTEND;VALUE=DATE:20191207
DTSTAMP:20191218T033403
CREATED:20191106T214356Z
LAST-MODIFIED:20191123T231408Z
UID:32858-1575590400-1575676799@nayland.school.nz
SUMMARY:TSS Open Beach Volleyball Champs
DESCRIPTION:
URL:https://nayland.school.nz/event/tss-open-beach-volleyball-champs-2/
LOCATION:Tahunanui
END:VEVENT
BEGIN:VEVENT
DTSTART;VALUE=DATE:20191206
DTEND;VALUE=DATE:20191207
DTSTAMP:20191218T033403
CREATED:20191106T214356Z
LAST-MODIFIED:20191123T231408Z
UID:32859-1575590400-1575676799@nayland.school.nz
SUMMARY:Stoke Cricket Quiz Night
DESCRIPTION:
URL:https://nayland.school.nz/event/stoke-cricket-quiz-night/
LOCATION:Hall
END:VEVENT
BEGIN:VEVENT
DTSTART;VALUE=DATE:20191210
DTEND;VALUE=DATE:20191211
DTSTAMP:20191218T033403
CREATED:20191110T215934Z
LAST-MODIFIED:20191123T231408Z
UID:32904-1575936000-1576022399@nayland.school.nz
SUMMARY:Nayland School of Music end-of-year performance
DESCRIPTION:See SLN for details. \n
URL:https://nayland.school.nz/event/nayland-school-of-music-end-of-year-performance/
END:VEVENT
BEGIN:VEVENT
DTSTART;TZID=Pacific/Auckland:20191212T130000
DTEND;TZID=Pacific/Auckland:20191212T141500
DTSTAMP:20191218T033403
CREATED:20191112T221449Z
LAST-MODIFIED:20191123T231408Z
UID:32923-1576155600-1576160100@nayland.school.nz
SUMMARY:Junior Prizegiving
DESCRIPTION:
URL:https://nayland.school.nz/event/junior-prizegiving-2/
END:VEVENT
END:VCALENDAR